BEGIN:VCALENDAR
VERSION:2.0
PRODID:-//wp-events-plugin.com//7.2.3.1//EN
TZID:Europe/Berlin
X-WR-TIMEZONE:Europe/Berlin
BEGIN:VEVENT
UID:521@nef-online.de
DTSTART;TZID=Europe/Berlin:20260321T140000
DTEND;TZID=Europe/Berlin:20260321T163000
DTSTAMP:20251229T111612Z
URL:https://www.nef-online.de/events/mitgliederversammlung-2026/
SUMMARY:Mitgliederversammlung 2026 mit Neuwahl des Vorstandes
DESCRIPTION:Es erfolgte eine gesonderte Einladung an die  Mitglieder.
CATEGORIES:Mitgliederversammlung
LOCATION:Vereinslokal\, Germersheimer Strasse 86\, Nürnberg\, Bayern\, 904
 69\, Deutschland\, 
GEO:49.403405;11.099292
X-APPLE-STRUCTURED-LOCATION;VALUE=URI;X-ADDRESS=Germersheimer Strasse 86\, 
 Nürnberg\, Bayern\, 90469\, Deutschland;X-APPLE-RADIUS=100;X-TITLE=Verein
 slokal:geo:49.403405,11.099292
END:VEVENT
BEGIN:VTIMEZONE
TZID:Europe/Berlin
X-LIC-LOCATION:Europe/Berlin
BEGIN:STANDARD
DTSTART:20251026T020000
TZOFFSETFROM:+0200
TZOFFSETTO:+0100
TZNAME:CET
END:STANDARD
END:VTIMEZONE
END:VCALENDAR