BEGIN:VCALENDAR
VERSION:2.0
PRODID:-//wp-events-plugin.com//7.2.3.1//EN
TZID:Europe/Berlin
X-WR-TIMEZONE:Europe/Berlin
BEGIN:VEVENT
UID:527@nef-online.de
DTSTART;TZID=Europe/Berlin:20260425T090000
DTEND;TZID=Europe/Berlin:20260425T190000
DTSTAMP:20260318T222151Z
URL:https://www.nef-online.de/events/jagsttalbahn2026/
SUMMARY:Ticket-Tour zur Jagsttalbahn mit Dampfbetrieb
DESCRIPTION:[caption id="attachment_10798" align="aligncenter" width="1024"
 ] Bilder © Jagsttalbahn e.V.\, IG Preßnitztalbahn e. V.[/caption]\n\nLie
 be Eisenbahnfreunde\,\n\ndie 39\,1 km lange\, eingleisige Jagsttalbahn mit
  einer Spurweite von 750 Millimetern zwischen Möckmühl und Dörzbach\, 
 wurde am 23. Dezember 1988 wegen Oberbaumängeln eingestellt.\nDie Jagstta
 lbahnfreunde e.V. planen den Wiederaufbau der Jagsttalbahn zwischen Dörzb
 ach über Klepsau nach Krautheim\, wobei die Streckenlänge jetzt schon c
 a. einen Kilometer beträgt.\nIn diesem Jahr feiert die Jagsttalbahn ihr 1
 25-jähriges Jubiläum mit der Dampflokomotive 99 4652 „Frank S.“\, di
 e schon in den 80er Jahren auf der Jagsttalbahn im Einsatz war.\n\nWir lad
 en deshalb zu einem Besuch und Befahrung der Jagsttalbahn mit Dampflok ein
 .\nIm Bf Dörzbach können die historischen Bahnanlagen und Fahrzeuge besi
 chtigt werden.\n\nFür Verpflegung ist im Bf Dörzbach bzw. in der örtli
 chen Gastronomie gesorgt.\n\nWir fahren ab Nürnberg Hbf um 9.05 Uhr zun
 ächst nach Würzburg Hbf (an 10.16 Uhr). Von dort geht es um 10.37 Uhr n
 ach Lauda (11.08 – 11.14 Uhr) und weiter nach Bad Mergenthein (an 11.26 
 Uhr). Mit der Buslinie 19 fahren wir von dort um 11.40 zum Bf Dörzbach (a
 n 11.59 Uhr).\nDie Rückreise beginnt in Dörzbach um 15.53 Uhr mit Busli
 nie 19 zum Bf Bad Mergentheim (an 16.15 Uhr) und weiter mit mit RE um 16.3
 2 Uhr nach Lauda (an 16.42 Uhr). Von dort fahren wir mit RE um 16.50 Uhr n
 ach Würzburg Hbf (17.21 – 17.41 Uhr) und mit RE zurück nach Nürnbe
 rg Hbf (an 18.55 Uhr).\n\nTreffpunkt ist in Nürnberg Hbf im ersten Wagen
  (falls dort die 1. Klasse ist\, im zweiten Wagen) des RE 10 nach Würzbu
 rg Hbf - Abfahrt um 9.05 Uhr\, Gleis 18.\n\nTeilnehmerpreis:\n1) Quer-durc
 hs-Land und Bus-Ticket - Anteil je nach Teilnehmerzahl.\nBitte geben Sie a
 n\, wenn Sie ein Deutschland-Ticket besitzen.\n2) Fahrkarte für den Damp
 fzug (Erwachsene 6\,00 €\, Kinder 3\,00 €).\n3) Geringe Nebenkosten we
 rden umgelegt.\n\nDer Teilnehmerpreis wird im Zug in bar kassiert.\n\nIch 
 freue mich auf eine zahlreiche Teilnahme! Geben Sie mir bitte persönlich\
 , per E-Mail oder telefonisch bis spätestens Montag\, 20. April 2026 Besc
 heid\, ob Sie mitfahren.\n\nAnsprechpartner:\nRaimund Scheder\, Rotbuchens
 tr. 22\, 90449 Nürnberg\, Tel.: 0911 / 64 94 778\,\nE-Mail: r.scheder@gm
 x.de\n\nMit freundlichen Grüßen\nRaimund Scheder\n\n1. Vorsitzender
CATEGORIES:Exkursion / Tickettour
LOCATION:Treffpunkt: Nürnberg Hbf im führenden 2. Klasse Wagen des RE 10 
 - Abfahrt um 9.05 Uhr\, Gleis 18\, Bahnhofsplatz 9\, Nürnberg\, Bayern\, 
 90443\, Deutschland\, 
GEO:49.446203;11.081865
X-APPLE-STRUCTURED-LOCATION;VALUE=URI;X-ADDRESS=Bahnhofsplatz 9\, Nürnberg
 \, Bayern\, 90443\, Deutschland;X-APPLE-RADIUS=100;X-TITLE=Treffpunkt: Nü
 rnberg Hbf im führenden 2. Klasse Wagen des RE 10 - Abfahrt um 9.05 Uhr\,
  Gleis 18:geo:49.446203,11.081865
END:VEVENT
BEGIN:VTIMEZONE
TZID:Europe/Berlin
X-LIC-LOCATION:Europe/Berlin
BEGIN:DAYLIGHT
DTSTART:20260329T030000
TZOFFSETFROM:+0100
TZOFFSETTO:+0200
TZNAME:CEST
END:DAYLIGHT
END:VTIMEZONE
END:VCALENDAR