BEGIN:VCALENDAR
VERSION:2.0
PRODID:-//wp-events-plugin.com//7.2.3.1//EN
TZID:Europe/Berlin
X-WR-TIMEZONE:Europe/Berlin
BEGIN:VEVENT
UID:528@nef-online.de
DTSTART;TZID=Europe/Berlin;VALUE=DATE:20260530
DTEND;TZID=Europe/Berlin;VALUE=DATE:20260531
DTSTAMP:20260305T090940Z
URL:https://www.nef-online.de/events/eisenbahnmuseumbayerischeisenstein/
SUMMARY:Ticket-Tour zum Eisenbahnmuseum nach Bayerisch-Eisenstein
DESCRIPTION:Weitere Infos folgen.
CATEGORIES:Exkursion / Tickettour
END:VEVENT
BEGIN:VTIMEZONE
TZID:Europe/Berlin
X-LIC-LOCATION:Europe/Berlin
BEGIN:DAYLIGHT
DTSTART:20260329T030000
TZOFFSETFROM:+0100
TZOFFSETTO:+0200
TZNAME:CEST
END:DAYLIGHT
END:VTIMEZONE
END:VCALENDAR